BEGIN:VCALENDAR
VERSION:2.0
PRODID:-//ChamberMaster//Event Calendar 2.0//EN
METHOD:PUBLISH
X-PUBLISHED-TTL:P3D
REFRESH-INTERVAL:P3D
CALSCALE:GREGORIAN
BEGIN:VEVENT
DTSTART:20251015T190000Z
DTEND:20251015T210000Z
X-MICROSOFT-CDO-ALLDAYEVENT:FALSE
SUMMARY:CELEBRATING EXTRAORDINARY WOMEN 10/15/2025
DESCRIPTION:Be inspired\, empowered\, and connect! Listen to the experiences of some of West Orange County's leading businesswomen. Each panelist has a unique perspective to share. Attendees can strengthen relationships through conversation and networking in this engaging event.\n\n\n\nPanelist\n\nMaggie Bonko- Vice President\, Orlando Health\; President\, Orlando Health   Health Central Hospital\n\nNicole M. Lauria- CEO & Founder\, Nicole Lauria Consulting\n\nAmy Pauly- Head Coach & Vice President of Volleyball Operations\, Orlando Valkyries
X-ALT-DESC;FMTTYPE=text/html:<span style="font-size:14px\;">Be inspired\, empowered\, and connect! Listen to the experiences of some of West Orange County&#39\;s leading businesswomen. Each panelist has a unique perspective to share. Attendees can strengthen relationships through conversation and networking in this engaging event.</span><br />\n<br />\n<strong><span style="font-size:16px\;">Panelist<br />\nMaggie Bonko-&nbsp\;Vice President\, Orlando Health\; President\, Orlando Health &ndash\; Health Central Hospital<br />\nNicole M. Lauria- CEO &amp\; Founder\, Nicole Lauria Consulting<br />\nAmy Pauly-&nbsp\;Head Coach &amp\; Vice President of Volleyball Operations\, Orlando Valkyries</span></strong><br />\n<br />\n&nbsp\;
LOCATION:Southern Hill Farms 16651 Schofield Road Clermont\, FL 34714
UID:e.747.2909
SEQUENCE:3
DTSTAMP:20260421T062803Z
URL:https://business.wochamber.com/events/details/celebrating-extraordinary-women-10-15-2025-2909
END:VEVENT

END:VCALENDAR
